BEGIN:VCALENDAR
VERSION:2.0
PRODID:-//Senior Scholars at Queens - ECPv6.15.18//NONSGML v1.0//EN
CALSCALE:GREGORIAN
METHOD:PUBLISH
X-WR-CALNAME:Senior Scholars at Queens
X-ORIGINAL-URL:https://seniorscholars.net
X-WR-CALDESC:Events for Senior Scholars at Queens
REFRESH-INTERVAL;VALUE=DURATION:PT1H
X-Robots-Tag:noindex
X-PUBLISHED-TTL:PT1H
BEGIN:VTIMEZONE
TZID:America/New_York
BEGIN:DAYLIGHT
TZOFFSETFROM:-0500
TZOFFSETTO:-0400
TZNAME:EDT
DTSTART:20220313T070000
END:DAYLIGHT
BEGIN:STANDARD
TZOFFSETFROM:-0400
TZOFFSETTO:-0500
TZNAME:EST
DTSTART:20221106T060000
END:STANDARD
BEGIN:DAYLIGHT
TZOFFSETFROM:-0500
TZOFFSETTO:-0400
TZNAME:EDT
DTSTART:20230312T070000
END:DAYLIGHT
BEGIN:STANDARD
TZOFFSETFROM:-0400
TZOFFSETTO:-0500
TZNAME:EST
DTSTART:20231105T060000
END:STANDARD
BEGIN:DAYLIGHT
TZOFFSETFROM:-0500
TZOFFSETTO:-0400
TZNAME:EDT
DTSTART:20240310T070000
END:DAYLIGHT
BEGIN:STANDARD
TZOFFSETFROM:-0400
TZOFFSETTO:-0500
TZNAME:EST
DTSTART:20241103T060000
END:STANDARD
END:VTIMEZONE
BEGIN:VEVENT
DTSTART;TZID=America/New_York:20230519T100000
DTEND;TZID=America/New_York:20230519T110000
DTSTAMP:20260419T143210
CREATED:20230417T144624Z
LAST-MODIFIED:20250123T204058Z
UID:10000027-1684490400-1684494000@seniorscholars.net
SUMMARY:Queens University of Charlotte: Today and Tomorrow with Dr. Sarah Fatherly
DESCRIPTION:TOPIC: Queens University of Charlotte: Today and Tomorrow\nThe chief academic officer of Queens will visit with the Seniors Scholars to share an update on current campus activities as well as discuss the aspirational strategic vision that is guiding its plans for the near future. \nBIOGRAPHY\nSarah Fatherly is the chief academic officer for Queens University of Charlotte\, overseeing all academic programs and services. Having served in that role since 2017\, Dr. Fatherly has almost two decades of experience in academic administration. \nShe joined the Queens community in 2012 as associate provost and dean of university programs providing a renewed focus to undergraduate student success and retention. In addition to scholarship in her academic fields of study\, Fatherly has published and presented widely on scaling high-impact practices\, equity-minded curriculum innovation\, faculty development practices\, and campus partnerships for student success. She earned a B.A. from Gustavus Adolphus College\, an M.A.\, and a Ph.D. in United States History from the University of Wisconsin-Madison.
URL:https://seniorscholars.net/event/queens-university-update-with-dr-sarah-fatherly/
LOCATION:Hybrid: In-Person at PUMC & via Zoom\, 2810 Providence Rd\, Charlotte\, NC\, 28211\, United States
CATEGORIES:Speaker Presentations
ATTACH;FMTTYPE=image/jpeg:https://seniorscholars.net/wp-content/uploads/2023/03/SFatherly_5-19-2023.jpg
END:VEVENT
END:VCALENDAR