BEGIN:VCALENDAR
VERSION:2.0
PRODID:-//Senior Scholars at Queens - ECPv6.15.20//NONSGML v1.0//EN
CALSCALE:GREGORIAN
METHOD:PUBLISH
X-ORIGINAL-URL:https://seniorscholars.net
X-WR-CALDESC:Events for Senior Scholars at Queens
REFRESH-INTERVAL;VALUE=DURATION:PT1H
X-Robots-Tag:noindex
X-PUBLISHED-TTL:PT1H
BEGIN:VTIMEZONE
TZID:America/New_York
BEGIN:DAYLIGHT
TZOFFSETFROM:-0500
TZOFFSETTO:-0400
TZNAME:EDT
DTSTART:20220313T070000
END:DAYLIGHT
BEGIN:STANDARD
TZOFFSETFROM:-0400
TZOFFSETTO:-0500
TZNAME:EST
DTSTART:20221106T060000
END:STANDARD
BEGIN:DAYLIGHT
TZOFFSETFROM:-0500
TZOFFSETTO:-0400
TZNAME:EDT
DTSTART:20230312T070000
END:DAYLIGHT
BEGIN:STANDARD
TZOFFSETFROM:-0400
TZOFFSETTO:-0500
TZNAME:EST
DTSTART:20231105T060000
END:STANDARD
BEGIN:DAYLIGHT
TZOFFSETFROM:-0500
TZOFFSETTO:-0400
TZNAME:EDT
DTSTART:20240310T070000
END:DAYLIGHT
BEGIN:STANDARD
TZOFFSETFROM:-0400
TZOFFSETTO:-0500
TZNAME:EST
DTSTART:20241103T060000
END:STANDARD
END:VTIMEZONE
BEGIN:VEVENT
DTSTART;TZID=America/New_York:20230505T100000
DTEND;TZID=America/New_York:20230505T110000
DTSTAMP:20260419T165657
CREATED:20220902T161508Z
LAST-MODIFIED:20250123T204058Z
UID:10000001-1683280800-1683284400@seniorscholars.net
SUMMARY:Deadly Declarations Novel with Author Landis Wade
DESCRIPTION:TOPIC: The Meck Dec: How Charlotte’s Actions on May 20\, 1775 Inspired My Novel\, Deadly Declarations\nIn this presentation\, we explore the lead up to the revolutionary war and how those events unfolded to cause Charlotte to declare independence from the most powerful nation in the world on May 20\, 1775\, and we explore the controversy of the Mecklenburg Declaration of Independence. \nWas it a real document\, as founding father John Adams believed? Or\, as Thomas Jefferson quipped\, was it “spurious?” And we take a peek at the conspiracies surrounding the Meck Dec\, what North Carolina did to try to prove the story of the Meck Dec was true\, and how all that folded into and became the perfect foundation of conflict for a novel. \n\nBIOGRAPHY\nLandis Wade is a recovering trial lawyer turned author turned founder and host of the popular Charlotte Readers Podcast (where he has conducted more than 300 author interviews)\, whose recent novel\, Deadly Declarations\, received praise by Kirkus Reviews\, BookLife Reviews and Midwest Book Reviews\, and was named a Finalist in the Thriller/Adventure category of the 2022 International Book Awards. \nHis third book—The Christmas Redemption—won the Holiday category of the 12th Annual National Indie Excellence Awards. He also won the 2016 North Carolina State Bar short story contest for The Deliberation\, and has received various awards for non-fiction pieces. His short work has appeared in Writersdigest.com\, The Charlotte Observer\, News and Observer\, Flying South\, Fiction on the Web\, and in more than six anthologies. \nHe’s a past board member of Charlotte Writers Club\, and is active in the Charlotte and North Carolina writing communities. He is a graduate of Davidson College with a degree in history and received his J.D. degree from Wake Forest University School of Law. His love of history and his experience in the courtroom led to his novel\, Deadly Declarations. \n\nRESOURCES \nAuthor website: www.landiswade.com  \nPodcast website: https://charlottereaderspodcast.com/
URL:https://seniorscholars.net/event/1775-inspired-novel-with-landis-wade/
LOCATION:Hybrid: In-Person at PUMC & via Zoom\, 2810 Providence Rd\, Charlotte\, NC\, 28211\, United States
CATEGORIES:Speaker Presentations
ATTACH;FMTTYPE=image/jpeg:https://seniorscholars.net/wp-content/uploads/2022/09/LWade_5-5-2023.jpg
END:VEVENT
END:VCALENDAR