BEGIN:VCALENDAR
VERSION:2.0
PRODID:-//Senior Scholars at Queens - ECPv6.15.18//NONSGML v1.0//EN
CALSCALE:GREGORIAN
METHOD:PUBLISH
X-WR-CALNAME:Senior Scholars at Queens
X-ORIGINAL-URL:https://seniorscholars.net
X-WR-CALDESC:Events for Senior Scholars at Queens
REFRESH-INTERVAL;VALUE=DURATION:PT1H
X-Robots-Tag:noindex
X-PUBLISHED-TTL:PT1H
BEGIN:VTIMEZONE
TZID:America/New_York
BEGIN:DAYLIGHT
TZOFFSETFROM:-0500
TZOFFSETTO:-0400
TZNAME:EDT
DTSTART:20220313T070000
END:DAYLIGHT
BEGIN:STANDARD
TZOFFSETFROM:-0400
TZOFFSETTO:-0500
TZNAME:EST
DTSTART:20221106T060000
END:STANDARD
BEGIN:DAYLIGHT
TZOFFSETFROM:-0500
TZOFFSETTO:-0400
TZNAME:EDT
DTSTART:20230312T070000
END:DAYLIGHT
BEGIN:STANDARD
TZOFFSETFROM:-0400
TZOFFSETTO:-0500
TZNAME:EST
DTSTART:20231105T060000
END:STANDARD
BEGIN:DAYLIGHT
TZOFFSETFROM:-0500
TZOFFSETTO:-0400
TZNAME:EDT
DTSTART:20240310T070000
END:DAYLIGHT
BEGIN:STANDARD
TZOFFSETFROM:-0400
TZOFFSETTO:-0500
TZNAME:EST
DTSTART:20241103T060000
END:STANDARD
END:VTIMEZONE
BEGIN:VEVENT
DTSTART;TZID=America/New_York:20230424T080000
DTEND;TZID=America/New_York:20230427T170000
DTSTAMP:20260419T131329
CREATED:20221115T192319Z
LAST-MODIFIED:20250219T180724Z
UID:10000003-1682323200-1682614800@seniorscholars.net
SUMMARY:Wildacres Spring 2023 Retreat / April 24-27\, 2023
DESCRIPTION:Speaker / Topic: \nDr. Majorie Spruill / Divided We Stand: The Battle Over Women’s Rights and Family Values That Polarized American Politics \nChristopher Brook\, Esq. / From Roe to Dobbs \nDetails Here
URL:https://seniorscholars.net/event/wildacres-retreat-april-24-27/
LOCATION:Wildacres Retreat\, 1565 Wildacres Road\, Little Switzerland\, NC\, 28749\, United States
CATEGORIES:Social Events,Wildacres Retreat
ATTACH;FMTTYPE=image/jpeg:https://seniorscholars.net/wp-content/uploads/2022/11/Wildacres.jpg
END:VEVENT
BEGIN:VEVENT
DTSTART;TZID=America/New_York:20230428T100000
DTEND;TZID=America/New_York:20230428T110000
DTSTAMP:20260419T131329
CREATED:20230223T211035Z
LAST-MODIFIED:20250123T204058Z
UID:10000008-1682676000-1682679600@seniorscholars.net
SUMMARY:Relationship Between the US and China / Dr. Cheryl Brown
DESCRIPTION:GREAT DECISIONS TOPIC: The Relationship Between the US and China \nDr. Cheryl Brown is the Chair and Associate Professor for the Department of Political Science and Public Administration at UNC—Charlotte. \nCourses she teaches include the Politics of China\, East Asia in World Affairs\, Big Data and Artificial Intelligence: Privacy\, Ethics and Governance\, and others. \nHer research interests cover China’s Innovative Technology and Artificial Intelligence Policies and the Social and Ethical Implications of Big Data and Artificial Intelligence. \n 
URL:https://seniorscholars.net/event/relationship-between-the-us-and-china-dr-cheryl-brown/
LOCATION:Hybrid: In-Person at PUMC & via Zoom\, 2810 Providence Rd\, Charlotte\, NC\, 28211\, United States
CATEGORIES:Speaker Presentations
ATTACH;FMTTYPE=image/jpeg:https://seniorscholars.net/wp-content/uploads/2023/02/CBrown_4-28-2023.jpg
END:VEVENT
BEGIN:VEVENT
DTSTART;TZID=America/New_York:20230428T114500
DTEND;TZID=America/New_York:20230428T124500
DTSTAMP:20260419T131329
CREATED:20230328T204109Z
LAST-MODIFIED:20250219T180702Z
UID:10000029-1682682300-1682685900@seniorscholars.net
SUMMARY:Lunch Bunch - April 28
DESCRIPTION:Join your fellow members for some lunch social time. \nRooster’s SouthPark location \n6601 Carnegie Blvd.\nCharlotte\, NC 28211 \n 
URL:https://seniorscholars.net/event/lunch-bunch-april-28/
LOCATION:NC
CATEGORIES:Lunch Bunch,Social Events
ATTACH;FMTTYPE=image/jpeg:https://seniorscholars.net/wp-content/uploads/2023/04/Lunch-Bunch_Roosters1.jpg
END:VEVENT
END:VCALENDAR