BEGIN:VCALENDAR
VERSION:2.0
PRODID:-//Senior Scholars at Queens - ECPv6.15.18//NONSGML v1.0//EN
CALSCALE:GREGORIAN
METHOD:PUBLISH
X-WR-CALNAME:Senior Scholars at Queens
X-ORIGINAL-URL:https://seniorscholars.net
X-WR-CALDESC:Events for Senior Scholars at Queens
REFRESH-INTERVAL;VALUE=DURATION:PT1H
X-Robots-Tag:noindex
X-PUBLISHED-TTL:PT1H
BEGIN:VTIMEZONE
TZID:America/New_York
BEGIN:DAYLIGHT
TZOFFSETFROM:-0500
TZOFFSETTO:-0400
TZNAME:EDT
DTSTART:20220313T070000
END:DAYLIGHT
BEGIN:STANDARD
TZOFFSETFROM:-0400
TZOFFSETTO:-0500
TZNAME:EST
DTSTART:20221106T060000
END:STANDARD
BEGIN:DAYLIGHT
TZOFFSETFROM:-0500
TZOFFSETTO:-0400
TZNAME:EDT
DTSTART:20230312T070000
END:DAYLIGHT
BEGIN:STANDARD
TZOFFSETFROM:-0400
TZOFFSETTO:-0500
TZNAME:EST
DTSTART:20231105T060000
END:STANDARD
BEGIN:DAYLIGHT
TZOFFSETFROM:-0500
TZOFFSETTO:-0400
TZNAME:EDT
DTSTART:20240310T070000
END:DAYLIGHT
BEGIN:STANDARD
TZOFFSETFROM:-0400
TZOFFSETTO:-0500
TZNAME:EST
DTSTART:20241103T060000
END:STANDARD
END:VTIMEZONE
BEGIN:VEVENT
DTSTART;TZID=America/New_York:20230407T100000
DTEND;TZID=America/New_York:20230407T110000
DTSTAMP:20260419T143211
CREATED:20230219T212523Z
LAST-MODIFIED:20250123T204145Z
UID:10000013-1680861600-1680865200@seniorscholars.net
SUMMARY:Exploring Mysteries Through Film  / Sam Shapiro
DESCRIPTION:TOPIC: Exploring Mysteries Through Film\nSam Shapiro has taught courses in Film Studies and American Studies at UNC-Charlotte for 25 years. \nHe specializes in a variety of subjects\, including “Alfred Hitchcock”\, “Stanley Kubrick”\, “American Cinema of the 1970s”\, “History of Silent Cinema” and “Crime in American Film & Literature”. \nSam recently retired from Charlotte Mecklenburg Library\, where he programmed and hosted a long-running\, popular film series. \nNOTE: Speaker will be presenting via Zoom only. PUMC is closed for Good Friday.
URL:https://seniorscholars.net/event/exploring-mysteries-through-film-sam-shapiro/
LOCATION:Zoom Registration Required
CATEGORIES:Speaker Presentations
ATTACH;FMTTYPE=image/jpeg:https://seniorscholars.net/wp-content/uploads/2023/02/SShapiro_4-7-2023.jpg
END:VEVENT
END:VCALENDAR