BEGIN:VCALENDAR
VERSION:2.0
PRODID:-//Senior Scholars at Queens - ECPv6.15.18//NONSGML v1.0//EN
CALSCALE:GREGORIAN
METHOD:PUBLISH
X-WR-CALNAME:Senior Scholars at Queens
X-ORIGINAL-URL:https://seniorscholars.net
X-WR-CALDESC:Events for Senior Scholars at Queens
REFRESH-INTERVAL;VALUE=DURATION:PT1H
X-Robots-Tag:noindex
X-PUBLISHED-TTL:PT1H
BEGIN:VTIMEZONE
TZID:America/New_York
BEGIN:DAYLIGHT
TZOFFSETFROM:-0500
TZOFFSETTO:-0400
TZNAME:EDT
DTSTART:20220313T070000
END:DAYLIGHT
BEGIN:STANDARD
TZOFFSETFROM:-0400
TZOFFSETTO:-0500
TZNAME:EST
DTSTART:20221106T060000
END:STANDARD
BEGIN:DAYLIGHT
TZOFFSETFROM:-0500
TZOFFSETTO:-0400
TZNAME:EDT
DTSTART:20230312T070000
END:DAYLIGHT
BEGIN:STANDARD
TZOFFSETFROM:-0400
TZOFFSETTO:-0500
TZNAME:EST
DTSTART:20231105T060000
END:STANDARD
BEGIN:DAYLIGHT
TZOFFSETFROM:-0500
TZOFFSETTO:-0400
TZNAME:EDT
DTSTART:20240310T070000
END:DAYLIGHT
BEGIN:STANDARD
TZOFFSETFROM:-0400
TZOFFSETTO:-0500
TZNAME:EST
DTSTART:20241103T060000
END:STANDARD
END:VTIMEZONE
BEGIN:VEVENT
DTSTART;TZID=America/New_York:20230328T133000
DTEND;TZID=America/New_York:20230328T150000
DTSTAMP:20260419T141331
CREATED:20230306T163426Z
LAST-MODIFIED:20250219T181812Z
UID:10000025-1680010200-1680015600@seniorscholars.net
SUMMARY:Field Trip: Billy Graham Library
DESCRIPTION:The Billy Graham Library has recently been renovated. \nJoin your fellow members for a field trip to tour the newly updated library. \nCarpooling available. Meet at Church at 12:45 pm. \n 
URL:https://seniorscholars.net/event/field-trip-billy-graham-library/
LOCATION:NC
CATEGORIES:Field Trips,Social Events
ATTACH;FMTTYPE=image/jpeg:https://seniorscholars.net/wp-content/uploads/2023/03/Billy-Graham-Field-Trip.jpg
END:VEVENT
BEGIN:VEVENT
DTSTART;TZID=America/New_York:20230331T100000
DTEND;TZID=America/New_York:20230331T110000
DTSTAMP:20260419T141331
CREATED:20230303T171933Z
LAST-MODIFIED:20250123T204058Z
UID:10000011-1680256800-1680260400@seniorscholars.net
SUMMARY:War Crimes / Dr. Jacob Wobig
DESCRIPTION:GREAT DECISIONS TOPIC: Pursuing Accountability for War Crimes in the Russia-Ukraine Conflict\nIt has become increasingly clear that there have seen serious abuses of civilians and prisoners of war in the Russia-Ukraine conflict.  Many of these abuses may rise to the level of war crimes and crimes against humanity.  However\, the application and enforcement of the laws of war have always been complicated by both law and politics.  This talk will consider how and whether atrocities in Ukraine – and other 21st century conflicts – will be punished under the laws of war. \n\nBIOGRAPHY \nDr. Wobig teaches political science and history at Wingate University.  His classes cover various aspects of global politics.  His research focuses international and comparative human rights\, and international law.  Prior to joining academia\, he practiced as an attorney in his home state of Nebraska. \nEducation wise\, he obtained his PhD at the University of Nebraska\, where he wrote his dissertation on regional treaties to support democracy in their member-states. Recently\, he has focused on recent trends in human rights around the world. He states that\, “We are in a “rights recession” in which many human rights are being restricted by governments around the world. I am trying to understand why.” \nIn addition to his teaching role\, Dr. Wobig is also the advisor to the Wingate Model United Nations team. They have been a very successful group over the last 8 years \nGrowing up in a small ranching town in western Nebraska called Valentine\, he attended the University of Nebraska – Lincoln to study political science and international relations. After graduating in 2001 he then went to the University of Iowa College of Law\, where he became Editor in Chief of the Journal of Transnational Law and Contemporary Problems. His interest in politics was already firmly entrenched by this time and through undergrad and law school he worked as a volunteer in about half a dozen campaigns for local and statewide offices. After law school\, he worked as an attorney in Lincoln\, Nebraska for 3 years where his practice was split between insurance defense and issues of administrative and constitutional law. \nhttps://creeca.wisc.edu/read-war-crimes-what-are-they-how-can-they-be-prosecuted-by-dr-francine-hirsch/
URL:https://seniorscholars.net/event/war-crimes-dr-jacob-wobig/
LOCATION:Hybrid: In-Person at PUMC & via Zoom\, 2810 Providence Rd\, Charlotte\, NC\, 28211\, United States
CATEGORIES:Speaker Presentations
ATTACH;FMTTYPE=image/jpeg:https://seniorscholars.net/wp-content/uploads/2023/03/JWobig-01_3-31-2023.jpg
END:VEVENT
END:VCALENDAR