BEGIN:VCALENDAR
VERSION:2.0
PRODID:-//Senior Scholars at Queens - ECPv6.15.20//NONSGML v1.0//EN
CALSCALE:GREGORIAN
METHOD:PUBLISH
X-WR-CALNAME:Senior Scholars at Queens
X-ORIGINAL-URL:https://seniorscholars.net
X-WR-CALDESC:Events for Senior Scholars at Queens
REFRESH-INTERVAL;VALUE=DURATION:PT1H
X-Robots-Tag:noindex
X-PUBLISHED-TTL:PT1H
BEGIN:VTIMEZONE
TZID:America/New_York
BEGIN:DAYLIGHT
TZOFFSETFROM:-0500
TZOFFSETTO:-0400
TZNAME:EDT
DTSTART:20230312T070000
END:DAYLIGHT
BEGIN:STANDARD
TZOFFSETFROM:-0400
TZOFFSETTO:-0500
TZNAME:EST
DTSTART:20231105T060000
END:STANDARD
BEGIN:DAYLIGHT
TZOFFSETFROM:-0500
TZOFFSETTO:-0400
TZNAME:EDT
DTSTART:20240310T070000
END:DAYLIGHT
BEGIN:STANDARD
TZOFFSETFROM:-0400
TZOFFSETTO:-0500
TZNAME:EST
DTSTART:20241103T060000
END:STANDARD
BEGIN:DAYLIGHT
TZOFFSETFROM:-0500
TZOFFSETTO:-0400
TZNAME:EDT
DTSTART:20250309T070000
END:DAYLIGHT
BEGIN:STANDARD
TZOFFSETFROM:-0400
TZOFFSETTO:-0500
TZNAME:EST
DTSTART:20251102T060000
END:STANDARD
END:VTIMEZONE
BEGIN:VEVENT
DTSTART;TZID=America/New_York:20240308T090000
DTEND;TZID=America/New_York:20240308T094500
DTSTAMP:20260419T234120
CREATED:20231110T183827Z
LAST-MODIFIED:20250123T204057Z
UID:10000046-1709888400-1709891100@seniorscholars.net
SUMMARY:New Member Orientation - Friday March 8
DESCRIPTION:All members old and new are invited to attend in person or via Zoom\, our New Member Orientation meeting. \nLearn more about the organization including how to meet people\, join events and how you can help the organization – the best way to meet new people! \nIn person meeting is in Room 106 in PUMC.
URL:https://seniorscholars.net/event/new-member-orientation-friday-march-8/
LOCATION:Hybrid: In-Person at PUMC & via Zoom\, 2810 Providence Rd\, Charlotte\, NC\, 28211\, United States
CATEGORIES:Speaker Presentations
ATTACH;FMTTYPE=image/jpeg:https://seniorscholars.net/wp-content/uploads/2023/09/NewMemberOrientation-1.jpg
END:VEVENT
BEGIN:VEVENT
DTSTART;TZID=America/New_York:20240308T100000
DTEND;TZID=America/New_York:20240308T110000
DTSTAMP:20260419T234120
CREATED:20230731T173628Z
LAST-MODIFIED:20250123T204057Z
UID:10000036-1709892000-1709895600@seniorscholars.net
SUMMARY:Earthquakes - A Lot of Shaking Going On with Kenneth Taylor
DESCRIPTION:TOPIC: Earthquakes — Alot of Shaking Going On\nSPEAKER:  Kenneth Taylor\, North Carolina Geological Survey; N.C. Department of Environmental Quality (NC DEQ) \nTravel over several of time in the eastern half of our country to see the number and severity of earthquakes in the Eastern and Central Part of the US. \n\nBIOGRAPHY \nBorn in North Carolina — Interest in earthquakes began after the 1971 San Fernando in California. I did not feel an earthquake personally until many years later. \nIn 1971\, I lived at Fort Bragg in North Carolina.  That year\, the San Fernando earthquake in California got me excited.  I am a seismologist / geophysicist / geologist.  When I went to the University of North Carolina at Chapel Hill\, I was the Teaching Assistant (TA) for the geophysics professor — Dr. Christine Powell (as an undergraduate). \nAfter getting my undergraduate degree in geology\, I went to the University of South Carolina in Columbia.  With my M.S. I got a job at Teledyne-Geotech in Dallas\, Texas as a research geophysicist.  Teledyne-Geotech made the most advanced borehole seismometers in the world.  We even recorded a volcanic eruption in Mexico with sensors that were hundreds of miles from the volcano. \nAfter a few years at T- G\, I moved with my wife to St. Louis to complete my doctorate in geophysics.  I chased earthquakes across the Midwest as well as recording seismic events in the Arctic Circle.  The team I was part of during the second summer in the high artic recorded the last soviet underground nuclear test. \nI got a Congressional Science Fellowship after completing my Doctorate.  I spent that year in the Washington area as worked for Senator Harry Reid. \nAfter that\, I came back to North Carolina and lived in Asheville\, and Wake County working for the State Government ever since.
URL:https://seniorscholars.net/event/earthquakes-in-the-carolinas-to-the-midwest-the-past-the-present-and-the-future-with-kenneth-taylor/
LOCATION:Hybrid: In-Person at PUMC & via Zoom\, 2810 Providence Rd\, Charlotte\, NC\, 28211\, United States
CATEGORIES:Speaker Presentations
ATTACH;FMTTYPE=image/jpeg:https://seniorscholars.net/wp-content/uploads/2024/01/KTaylor_3-8-2024.jpg
END:VEVENT
BEGIN:VEVENT
DTSTART;TZID=America/New_York:20240313T131500
DTEND;TZID=America/New_York:20240313T140000
DTSTAMP:20260419T234120
CREATED:20240221T160757Z
LAST-MODIFIED:20240221T160757Z
UID:10000078-1710335700-1710338400@seniorscholars.net
SUMMARY:Curriculum Committee Meeting  - March 13
DESCRIPTION:Curriculum Committee Meetings are open to Membership.  \nJoin our monthly Curriculum Committee meetings\, via Zoom\, to hear about upcoming speakers/events or to suggest speakers you know (or have heard speak) and believe would be of interest to your fellow Senior Scholars. \nThese meetings are always held on the Zoom platform.
URL:https://seniorscholars.net/event/curriculum-committee-meeting-march-13/
LOCATION:Zoom Registration Required
CATEGORIES:Board/Committee Meetings
ATTACH;FMTTYPE=image/jpeg:https://seniorscholars.net/wp-content/uploads/2023/09/Zoom-Meetings.jpg
END:VEVENT
BEGIN:VEVENT
DTSTART;TZID=America/New_York:20240315T100000
DTEND;TZID=America/New_York:20240315T110000
DTSTAMP:20260419T234120
CREATED:20240226T172205Z
LAST-MODIFIED:20250123T204057Z
UID:10000066-1710496800-1710500400@seniorscholars.net
SUMMARY:Outsmart the Outbreak with Dr. Katie Passaretti
DESCRIPTION:TOPIC: Outsmart the Outbreak: Winning the War Against Future Infectious Disease Threats with Dr. Katie Passaretti\nSPEAKER:  Dr. Katie Passaretti\, Vice President\, Chief Epidemiologist for Atrium Health \nReview factors contributing to emerging pathogens\, past and more recent pandemic successes and failures\, and what we can do better when facing the inevitable next infectious disease threat. \n\nBIOGRAPHY \nDr. Catherine Passaretti completed medical school\, internal medicine and infectious disease training at Johns Hopkins.  She currently is Vice President\, Chief Epidemiologist for Atrium Health and is a Clinical Professor in Internal Medicine\, Section for Infectious Diseases at Wake Forest University School of Medicine.
URL:https://seniorscholars.net/event/covid-and-pandemic-preparedness-with-dr-katie-passaretti/
LOCATION:Hybrid: In-Person at PUMC & via Zoom\, 2810 Providence Rd\, Charlotte\, NC\, 28211\, United States
CATEGORIES:Speaker Presentations
ATTACH;FMTTYPE=image/jpeg:https://seniorscholars.net/wp-content/uploads/2024/02/CPassaretti_3-15-2024.jpg
END:VEVENT
BEGIN:VEVENT
DTSTART;TZID=America/New_York:20240322T100000
DTEND;TZID=America/New_York:20240322T110000
DTSTAMP:20260419T234120
CREATED:20240215T165146Z
LAST-MODIFIED:20250123T204057Z
UID:10000067-1711101600-1711105200@seniorscholars.net
SUMMARY:Why Disengagement from the Middle East is Harder than You Think with Professor Sylvie Toska
DESCRIPTION:GREAT DECISIONS TOPIC: Why Disengagement from the Middle East is Harder than You Think\nSPEAKER: Professor Sylvie Toska\, Assistant Professor of Political Science\, Davidson College \nThe presentation will discuss past and present US interests in the Middle East\, and examine reasons why US disengagement from the region is\, and will continue to be\, difficult. It also discusses failures of US policy in the region and provides policy suggestions for the future. \n\nBIOGRAPHY \nDr. Toska is a Middle East and International Relations specialist with a PhD in political science from Cornell University. \nHer first book\, which is forthcoming with Oxford University Press\, is titled: “Revolutionary Emotions: Emotions and the Spread and Success of Revolt.” This book builds on over 6 years of field work in the Middle East. \nShe is currently working on a second book\, which examine intelligence success and failure in the Middle East.
URL:https://seniorscholars.net/event/why-disengagement-from-the-middle-east-is-harder-than-you-think-with-professor-sylvie-toska/
LOCATION:Hybrid: In-Person at PUMC & via Zoom\, 2810 Providence Rd\, Charlotte\, NC\, 28211\, United States
CATEGORIES:Speaker Presentations
ATTACH;FMTTYPE=image/jpeg:https://seniorscholars.net/wp-content/uploads/2023/11/Speaker-Coming-Soon-v2.jpg
END:VEVENT
BEGIN:VEVENT
DTSTART;TZID=America/New_York:20240329T100000
DTEND;TZID=America/New_York:20240329T110000
DTSTAMP:20260419T234120
CREATED:20240118T165145Z
LAST-MODIFIED:20250123T204145Z
UID:10000074-1711706400-1711710000@seniorscholars.net
SUMMARY:Multiple Points of Entry with David Fisk
DESCRIPTION:TOPIC:  Charlotte Symphony – Multiple Points of Entry\nSPEAKER: David Fisk\, President & CEO\, Charlotte Symphony \nA newcomer’s guide to the Charlotte Symphony. \nNOTE: Location change. This presentation will be at Temple Beth El. Speaker will be via Zoom. \n  \nDirections to Temple Beth El: \n\nEnter Shalom Park at the light – 5007 Providence Rd.\nAt the T-intersection\, turn right\, then make an immediate right.\nTurn left into parking lots for Temple Beth El.\n\n\nBIOGRAPHY \nDavid Fisk joined the Charlotte Symphony as its President & CEO in 2020. Prior to that he served as Executive Director of the Richmond Symphony in Virginia for 18 years\, having previously held leadership roles in the UK and Ireland with a chamber orchestra\, a symphony orchestra\, an international arts festival and a sculpture park. He holds a bachelor’s degree in music from the University of Manchester\, and a postgraduate performer’s diploma specializing in piano accompaniment from the Royal Northern College of Music\, where he also studied singing\, composition and conducting. \nDavid’s musical life began early\, as a boy chorister for five years at St. Paul’s Cathedral in London\, which made him realize his life would be in music one way or another. Studying cello led to a deep affinity for orchestral and chamber music\, and learning organ at St. Paul’s developed his love of church and choral music into adulthood. Though he started out as a professional musician\, and still continues to play piano and organ to this day\, David made the turn in his early twenties to arts management\, to which he has ever since dedicated his career. \nDavid is married to the Irish opera singer and voice teacher Anne O’Byrne. They live in Dilworth and have two grown children\, both currently studying in Europe.
URL:https://seniorscholars.net/event/charlotte-symphony-with-david-fiskpolicing-in-2024-with-david-robinson-copy/
LOCATION:Temple Beth El\, 5101 Providence Rd\, Charlotte\, 28270\, United States
CATEGORIES:Speaker Presentations
ATTACH;FMTTYPE=image/jpeg:https://seniorscholars.net/wp-content/uploads/2024/01/DFisk_3-29-2024.jpg
END:VEVENT
BEGIN:VEVENT
DTSTART;TZID=America/New_York:20240405T100000
DTEND;TZID=America/New_York:20240405T110000
DTSTAMP:20260419T234120
CREATED:20240313T141143Z
LAST-MODIFIED:20250123T204057Z
UID:10000068-1712311200-1712314800@seniorscholars.net
SUMMARY:Coping with Copyright with Matthew Asbell
DESCRIPTION:TOPIC: Copyright Law\nSPEAKER: Matthew Asbell\, Partner\, Lippes Mathias \nNOTE: This presentation will be via Zoom at Wolfe Hall. \nAs AI takes over our lives\, how are we impacted regarding using materials we may have copied from an online source? Join us for this fascinating topic to make sure you are following the law correctly. \nWith extensive knowledge and background in information technology\, entertainment\, medicine\, and a range of other fields\, Matt Asbell\, works with clients in diverse industries. \nMatt assists clients in clearing\, obtaining\, enforcing\, and defending trademark\, patent\, design and copyrights in the United States and throughout the world\, while also advising on domain names\, social media and related issues. \nMatthew serves as an adjunct professor of law and frequent guest lecturer at Fordham University and The Benjamin N. Cardozo School of Law (Yeshiva University)\, and has taught at Columbia University and the Instituto Superior de Derecho y Economia (ISDE) in Madrid\, Spain. \nHe hosts a weekly podcast on the intangible aspects of business and frequently appears in the media to discuss significant cases and topics relevant to the law surrounding intellectual property. \n\nBIOGRAPHY \nWww.matthewasbell.com\nWww.lippes.com \n  \n 
URL:https://seniorscholars.net/event/copyright-law-with-matthew-asbell/
LOCATION:Hybrid: In-Person at PUMC & via Zoom\, 2810 Providence Rd\, Charlotte\, NC\, 28211\, United States
CATEGORIES:Speaker Presentations
ATTACH;FMTTYPE=image/jpeg:https://seniorscholars.net/wp-content/uploads/2024/04/MAsbell_4-5-2024.jpg
END:VEVENT
END:VCALENDAR