BEGIN:VCALENDAR
VERSION:2.0
PRODID:-//Senior Scholars at Queens - ECPv6.15.20//NONSGML v1.0//EN
CALSCALE:GREGORIAN
METHOD:PUBLISH
X-WR-CALNAME:Senior Scholars at Queens
X-ORIGINAL-URL:https://seniorscholars.net
X-WR-CALDESC:Events for Senior Scholars at Queens
REFRESH-INTERVAL;VALUE=DURATION:PT1H
X-Robots-Tag:noindex
X-PUBLISHED-TTL:PT1H
BEGIN:VTIMEZONE
TZID:America/New_York
BEGIN:DAYLIGHT
TZOFFSETFROM:-0500
TZOFFSETTO:-0400
TZNAME:EDT
DTSTART:20220313T070000
END:DAYLIGHT
BEGIN:STANDARD
TZOFFSETFROM:-0400
TZOFFSETTO:-0500
TZNAME:EST
DTSTART:20221106T060000
END:STANDARD
BEGIN:DAYLIGHT
TZOFFSETFROM:-0500
TZOFFSETTO:-0400
TZNAME:EDT
DTSTART:20230312T070000
END:DAYLIGHT
BEGIN:STANDARD
TZOFFSETFROM:-0400
TZOFFSETTO:-0500
TZNAME:EST
DTSTART:20231105T060000
END:STANDARD
BEGIN:DAYLIGHT
TZOFFSETFROM:-0500
TZOFFSETTO:-0400
TZNAME:EDT
DTSTART:20240310T070000
END:DAYLIGHT
BEGIN:STANDARD
TZOFFSETFROM:-0400
TZOFFSETTO:-0500
TZNAME:EST
DTSTART:20241103T060000
END:STANDARD
END:VTIMEZONE
BEGIN:VEVENT
DTSTART;TZID=America/New_York:20230922T100000
DTEND;TZID=America/New_York:20230922T110000
DTSTAMP:20260421T121529
CREATED:20230731T172947Z
LAST-MODIFIED:20250123T204058Z
UID:10000033-1695376800-1695380400@seniorscholars.net
SUMMARY:Global Famine with Dr. Colleen Hammelman
DESCRIPTION:GREAT DECISIONS TOPIC: Global Famine\nSPEAKER: Dr. Colleen Hammelman\, Associate Professor in the Department of Geography and Earth Sciences and Director of the Charlotte Action Research Project at UNC Charlotte\nWorld hunger has galvanized public attention and policymakers for centuries. \nWhile significant political\, economic\, and technological advances have been made such that the worst cases of widespread hunger (famine) are much less common today; there remain significant\, and growing\, rates of food insecure people worldwide. Recent geopolitical and environmental challenges are exacerbating hunger and creating new potential for famine. \nDrawing on the speaker’s 10+ years of food systems research\, this lecture will examine contemporary drivers of hunger and famine and ongoing challenges to meeting the United Nation’s Sustainable Development Goal of Zero Hunger by 2030. It will also share current political\, economic and technological responses\, and innovative solutions that are being pursued across the globe. Famine and world hunger are long-standing and systemic challenges\, but significant and promising interventions are being implemented worldwide. \n\nBIOGRAPHY \nDr. Hammelman is an Associate Professor in the Department of Geography and Earth Sciences and Director of the Charlotte Action Research Project at UNC Charlotte. \nHer research and teaching broadly consider questions of social justice in urban food systems across the Americas. In particular\, her research focuses on better understanding how migrants create and experience urban places through food relationships in an effort to create a more sustainable and equitable food system. \nShe has published widely on topics such as food security\, urban agriculture\, and changing food landscapes\, including a 2022 book titled: Greening Cities by Growing Food: A Political Ecology Analysis of Urban Agriculture in the Americas. Before joining UNC Charlotte in 2017\, Dr. Hammelman was a Post-doctoral Fellow at the Culinaria Research Centre at the University of Toronto-Scarborough. \nShe completed her PhD in Geography and Urban Studies at Temple University in Philadelphia\, her MA in International Affairs at American University in Washington\, DC\, and her BA in Political Science and Technical Journalism at Colorado State University.
URL:https://seniorscholars.net/event/global-famine-with-dr-colleen-hammelman/
LOCATION:Hybrid: In-Person at PUMC & via Zoom\, 2810 Providence Rd\, Charlotte\, NC\, 28211\, United States
CATEGORIES:Speaker Presentations
ATTACH;FMTTYPE=image/jpeg:https://seniorscholars.net/wp-content/uploads/2023/08/CHammelman_9-22-2023.jpg
END:VEVENT
BEGIN:VEVENT
DTSTART;TZID=America/New_York:20230929T100000
DTEND;TZID=America/New_York:20230929T110000
DTSTAMP:20260421T121529
CREATED:20230815T161304Z
LAST-MODIFIED:20250123T204058Z
UID:10000040-1695981600-1695985200@seniorscholars.net
SUMMARY:The American Revolution in Mecklenburg County with Hugh Dussek
DESCRIPTION:TOPIC: The American Revolution in Mecklenburg County\nSPEAKER:  Hugh Dussek\, History Professor\, CPCC\nA presentation about the people living in Mecklenburg County during the American Revolution\, the nearby Revolutionary War battles\, and the events during the British occupation of Charlotte in the later stages of the war. \n\nBIOGRAPHY \nOriginally from London\, England\, Hugh Dussek has lived in Charlotte\, North Carolina\, for over twenty years. \nHugh holds a doctoral degree in history from Union Institute & University in Cincinnati\, Ohio\, and is a history professor\, and chair of the history department\, at Central Piedmont in Charlotte\, where he teaches courses on world civilizations\, American history\, the history of North Carolina\, and mythology. \nHugh serves on the boards of the Charlotte Museum of History\, Historic Rosedale\, and the Historic Mapping Congress\, and gives presentations in the community and on television about American\, British and local history.
URL:https://seniorscholars.net/event/the-american-revolution-in-mecklenburg-county-with-hugh-dussek/
LOCATION:Hybrid: In-Person at PUMC & via Zoom\, 2810 Providence Rd\, Charlotte\, NC\, 28211\, United States
CATEGORIES:Speaker Presentations
ATTACH;FMTTYPE=image/jpeg:https://seniorscholars.net/wp-content/uploads/2023/08/HDussek_9-29-2023.jpg
END:VEVENT
BEGIN:VEVENT
DTSTART;TZID=America/New_York:20230929T114500
DTEND;TZID=America/New_York:20230929T124500
DTSTAMP:20260421T121529
CREATED:20230828T181740Z
LAST-MODIFIED:20250219T180702Z
UID:10000049-1695987900-1695991500@seniorscholars.net
SUMMARY:Lunch Bunch - September 29
DESCRIPTION:SOLD OUT! Get on the wait list.\nJoin your fellow members for some lunch social time at Little Mama’s Italian restaurant. \nSpace is limited. Sign up at a Friday meeting or RSVP with link above. Parking and entrance is behind the restaurant. \nLittle Mama’s Italian restaurant \n4521 Sharon Rd\nCharlotte\, NC 28211 \n 
URL:https://seniorscholars.net/event/lunch-bunch-september-29/
CATEGORIES:Lunch Bunch,Social Events
ATTACH;FMTTYPE=image/jpeg:https://seniorscholars.net/wp-content/uploads/2023/09/Lunch-Bunch_LittleMamas-2.jpg
END:VEVENT
END:VCALENDAR