BEGIN:VCALENDAR
VERSION:2.0
PRODID:-//Senior Scholars at Queens - ECPv6.15.20//NONSGML v1.0//EN
CALSCALE:GREGORIAN
METHOD:PUBLISH
X-WR-CALNAME:Senior Scholars at Queens
X-ORIGINAL-URL:https://seniorscholars.net
X-WR-CALDESC:Events for Senior Scholars at Queens
REFRESH-INTERVAL;VALUE=DURATION:PT1H
X-Robots-Tag:noindex
X-PUBLISHED-TTL:PT1H
BEGIN:VTIMEZONE
TZID:America/New_York
BEGIN:DAYLIGHT
TZOFFSETFROM:-0500
TZOFFSETTO:-0400
TZNAME:EDT
DTSTART:20250309T070000
END:DAYLIGHT
BEGIN:STANDARD
TZOFFSETFROM:-0400
TZOFFSETTO:-0500
TZNAME:EST
DTSTART:20251102T060000
END:STANDARD
BEGIN:DAYLIGHT
TZOFFSETFROM:-0500
TZOFFSETTO:-0400
TZNAME:EDT
DTSTART:20260308T070000
END:DAYLIGHT
BEGIN:STANDARD
TZOFFSETFROM:-0400
TZOFFSETTO:-0500
TZNAME:EST
DTSTART:20261101T060000
END:STANDARD
BEGIN:DAYLIGHT
TZOFFSETFROM:-0500
TZOFFSETTO:-0400
TZNAME:EDT
DTSTART:20270314T070000
END:DAYLIGHT
BEGIN:STANDARD
TZOFFSETFROM:-0400
TZOFFSETTO:-0500
TZNAME:EST
DTSTART:20271107T060000
END:STANDARD
END:VTIMEZONE
BEGIN:VEVENT
DTSTART;TZID=America/New_York:20260123T100000
DTEND;TZID=America/New_York:20260123T110000
DTSTAMP:20260421T175448
CREATED:20251112T172454Z
LAST-MODIFIED:20251112T172857Z
UID:10000191-1769162400-1769166000@seniorscholars.net
SUMMARY:Habitat's Evolving Business Model with Laura Belcher
DESCRIPTION:TOPIC: Habitat’s Evolving Business Model\nSPEAKER: Laura Belcher\, President/CEO Habitat for Humanity\, Charlotte Region \nFounded locally 42 years ago\, Habitat Charlotte Region has built over 1500 new homes and served over 5000 families. In recent years\, as land availability becomes scarce and building material costs escalate\, Habitat has looked at how it needs to evolve to meet the rising demand for affordable homeownership options. \nJoin this presentation to hear how Habitat has moved from homebuilder to neighborhood developer while also preserving aging housing inventory and preparing future homeowners through financial education. As one of the largest affiliates in the US\, Habitat Charlotte Region’s $65million operation continues to look for ways to transform and intensify its impact. \n\nBIOGRAPHY \nLaura Belcher joined Habitat for Humanity of the Charlotte Region in 2014 as President & CEO. During her leadership\, the organization has seen nearly a 400% increase in families served through new homeownership\, critical home repairs and financial education programming. Laura has led the organization through 2 strategic mergers in the past 5 years\, expanding programming into Iredell and Gaston Counties. 2023 provided a career highlight as Habitat Charlotte Region hosted the Jimmy and Rosalynn Carter Work Project building 27 homes in a week with 3800 volunteers. \nLaura spent the first 20 years of her career in corporate roles with Arthur Andersen\, Wachovia Securities and Transamerica.  Laura was a CPA\, graduated from the College of William and Mary\, and spent 9 years in nonprofit work as CFO/COO of the Arts & Science Council prior to joining Habitat. \nLaura is on the Catapult Employers Association Board of Directors and chairs the Governance Committee. Laura is a member of Women Executives and International Women’s Forum. Her recent recognitions include 2025 Charlotte Business Journal Power 100 influential leaders\, 2024 Charlotte Woman of the Year and Business NC 2024 Power List as one of the most influential leaders in non-profits and philanthropies. \n\nNOTE: Attend in-person at PUMC\, no registration required. Attend via Zoom\, please register with the Zoom link above.
URL:https://seniorscholars.net/event/habitats-evolving-business-model-with-laura-belcher/
LOCATION:Hybrid: In-Person at PUMC & via Zoom\, 2810 Providence Rd\, Charlotte\, NC\, 28211\, United States
CATEGORIES:Hybrid: In-person & Zoom,Speaker Presentations
ATTACH;FMTTYPE=image/jpeg:https://seniorscholars.net/wp-content/uploads/2025/11/LBelcher_1-23-2026.jpg
END:VEVENT
BEGIN:VEVENT
DTSTART;TZID=America/New_York:20260130T100000
DTEND;TZID=America/New_York:20260130T110000
DTSTAMP:20260421T175448
CREATED:20251114T190352Z
LAST-MODIFIED:20251208T172706Z
UID:10000192-1769767200-1769770800@seniorscholars.net
SUMMARY:Civil and Indian Wars with Peter Cozzens
DESCRIPTION:TOPIC: Deadwood\, Wild Bill Hickok\, and Calamity Jane: The Births of Three Legends\nSPEAKER: Peter Cozzens\, Author \nThe presentation will scrutinize the birth and evolution of three of the most legendary subjects of the Wild West. It will also look at how Deadwood provoked the most consequential Indian War in the West. \nNOTE: This presentation will be via Zoom in Wolfe Hall.  \n\nBIOGRAPHY\nPeter Cozzens is the international award-winning author and editor of nineteen books on the American Civil War and the American West. Cozzens retired after a thirty-year career as a Foreign Service Officer at the U.S. Department of State. Before joining the Foreign Service\, he served as a captain in the U. S. Army. His book The Earth Is Weeping: The Epic Story of the Indian Wars for the American West  received the 2017 Gilder Lehrman Prize in Military History for the best military history work in the English language.  In December 2024\, the Economist selected it as one of the seven greatest military history books ever written. \nIn 2002\, Cozzens received the American Foreign Service Association’s highest award\, given annually to one Foreign Service Officer for exemplary moral courage\, integrity\, and creative dissent. He has also received an Alumni Achievement Award from his alma mater\, Knox College.\nHis most recent book is Deadwood: Gold\, Guns\, and Greed in the American West. \n\nNOTE: Attend in-person at PUMC\, no registration required. Attend via Zoom\, please register with the Zoom link above.
URL:https://seniorscholars.net/event/civil-and-indian-wars-with-peter-cozzens/
LOCATION:Hybrid: In-Person at PUMC & via Zoom\, 2810 Providence Rd\, Charlotte\, NC\, 28211\, United States
CATEGORIES:Hybrid: In-person & Zoom,Speaker Presentations
ATTACH;FMTTYPE=image/jpeg:https://seniorscholars.net/wp-content/uploads/2025/12/PCouzzens_1-30-2026.jpg
END:VEVENT
BEGIN:VEVENT
DTSTART;TZID=America/New_York:20260130T114500
DTEND;TZID=America/New_York:20260130T140000
DTSTAMP:20260421T175448
CREATED:20260108T221846Z
LAST-MODIFIED:20260108T221943Z
UID:10000205-1769773500-1769781600@seniorscholars.net
SUMMARY:Lunch Bunch: January 30
DESCRIPTION:We have booked Brixx Wood Fired Pizza + Craft Bar\, Foxcroft location\, for Friday\, January 30\, 11:45 a.m. \nLocated 7814 Fairview Rd\, Charlotte\, NC 28226 \nLimited space available! Please sign up by 01/26/2026. \nIf you register and find you can’t attend\, please email LunchBunch@SeniorScholars.net so that we can offer your seat to another member. \nLunch menu\, but full menu available. Individual checks\, tip included. Plenty of free parking. \nBrixx Pizza\n7814 Fairview Rd\nCharlotte\, NC 28226
URL:https://seniorscholars.net/event/lunch-bunch-january-30/
LOCATION:Brixx Pizza\, 7814 Fairview Rd\, Charlotte\, 28226\, United States
CATEGORIES:In-person,Lunch Bunch
ATTACH;FMTTYPE=image/jpeg:https://seniorscholars.net/wp-content/uploads/2026/01/Lunch-Bunch_01-30-2026_01.jpg
END:VEVENT
END:VCALENDAR