BEGIN:VCALENDAR
VERSION:2.0
PRODID:-//Senior Scholars at Queens - ECPv6.15.20//NONSGML v1.0//EN
CALSCALE:GREGORIAN
METHOD:PUBLISH
X-ORIGINAL-URL:https://seniorscholars.net
X-WR-CALDESC:Events for Senior Scholars at Queens
REFRESH-INTERVAL;VALUE=DURATION:PT1H
X-Robots-Tag:noindex
X-PUBLISHED-TTL:PT1H
BEGIN:VTIMEZONE
TZID:America/New_York
BEGIN:DAYLIGHT
TZOFFSETFROM:-0500
TZOFFSETTO:-0400
TZNAME:EDT
DTSTART:20230312T070000
END:DAYLIGHT
BEGIN:STANDARD
TZOFFSETFROM:-0400
TZOFFSETTO:-0500
TZNAME:EST
DTSTART:20231105T060000
END:STANDARD
BEGIN:DAYLIGHT
TZOFFSETFROM:-0500
TZOFFSETTO:-0400
TZNAME:EDT
DTSTART:20240310T070000
END:DAYLIGHT
BEGIN:STANDARD
TZOFFSETFROM:-0400
TZOFFSETTO:-0500
TZNAME:EST
DTSTART:20241103T060000
END:STANDARD
BEGIN:DAYLIGHT
TZOFFSETFROM:-0500
TZOFFSETTO:-0400
TZNAME:EDT
DTSTART:20250309T070000
END:DAYLIGHT
BEGIN:STANDARD
TZOFFSETFROM:-0400
TZOFFSETTO:-0500
TZNAME:EST
DTSTART:20251102T060000
END:STANDARD
END:VTIMEZONE
BEGIN:VEVENT
DTSTART;TZID=America/New_York:20240503T100000
DTEND;TZID=America/New_York:20240503T110000
DTSTAMP:20260422T191924
CREATED:20230803T161907Z
LAST-MODIFIED:20250123T204056Z
UID:10000039-1714730400-1714734000@seniorscholars.net
SUMMARY:The Search for Life Beyond Earth with Rachel Smith
DESCRIPTION:TOPIC: The Search for Life Beyond Earth\nSPEAKER:  Rachel Smith\, Head\, Astronomy & Astrophysics Research Lab\, Curator of Meteorites\, Professor\, Physics & Astronomy. North Carolina Museum of Natural Sciences/Appalachian State University. \nAstronomer Dr. Rachel Smith will use new planetarium software called OpenSpace to journey from Earth to our neighboring planets\, to far beyond the solar system. \nRachel will discuss some of Earth’s extreme environments and their connections to other worlds where scientists are searching for life. She will also discuss her current research on forming stars and protoplanetary systems across the Galaxy using NASA’s Infrared Telescope Facility on Maunakea\, Hawaii\, with links to exoplanets and the search for extraterrestrial intelligence. \nNOTE: This will be a Zoom presentation inside PUMC Wolfe Hall \n\nBIOGRAPHY \nDr. Rachel Smith is Head of the Astronomy and Astrophysics Research Lab and Curator of Meteorites at the North Carolina Museum of Natural Sciences. She is jointly appointed as Professor in the Department of Physics and Astronomy at Appalachian State University\, and Adjunct Professor at UNC Chapel Hill. \nRachel’s research involves observing forming stars across the Galaxy to better understand the chemical pathways involved in the evolution of planets\, and in the formation of carbon-based molecules needed for life. \nRachel has utilized several large observatories for her work\, and is currently observing massive young stars with NASA’s Infrared Telescope Facility on Maunakea in Hawaii. \nShe has had a long-time interest in the search for life beyond our planet\, and how life began and evolved on Earth.
URL:https://seniorscholars.net/event/the-search-for-life-beyond-earth-with-rachel-smith/
LOCATION:Hybrid: In-Person at PUMC & via Zoom\, 2810 Providence Rd\, Charlotte\, NC\, 28211\, United States
CATEGORIES:Speaker Presentations
END:VEVENT
END:VCALENDAR